BEGIN:VCALENDAR
VERSION:2.0
PRODID:-//La Victoria Healing Kitchen - ECPv6.10.1.1//NONSGML v1.0//EN
CALSCALE:GREGORIAN
METHOD:PUBLISH
X-WR-CALNAME:La Victoria Healing Kitchen
X-ORIGINAL-URL:https://healingkitchendenver.com
X-WR-CALDESC:Events for La Victoria Healing Kitchen
REFRESH-INTERVAL;VALUE=DURATION:PT1H
X-Robots-Tag:noindex
X-PUBLISHED-TTL:PT1H
BEGIN:VTIMEZONE
TZID:UTC
BEGIN:STANDARD
TZOFFSETFROM:+0000
TZOFFSETTO:+0000
TZNAME:UTC
DTSTART:20240101T000000
END:STANDARD
END:VTIMEZONE
BEGIN:VEVENT
DTSTART;TZID=UTC:20240321T063000
DTEND;TZID=UTC:20240321T213000
DTSTAMP:20260419T131626
CREATED:20240203T200749Z
LAST-MODIFIED:20240318T145027Z
UID:10000074-1711002600-1711056600@healingkitchendenver.com
SUMMARY:Global Vegan Spring
DESCRIPTION:$85.00\nWhether you embrace a vegan lifestyle or are simply curious about it\, this class is tailored for you! Immerse yourself in an elevated and flavorful plant-based menu featuring dishes from diverse culinary traditions around the world\, guided by Chef Aarika. Gain insight into the art of vegan cooking as Chef Aarika shares her expertise with you. Get ready to savor the vibrant flavors of spring vegetables like never before! Additionally\, organic wines will be on offer for purchase\, adding to the culinary experience. \nMenu: \n\nSmokey Carrot Latkes with Caramelized Apple Leek Chutney\nGrilled Huli Huli Tempeh with Hawaiian Macaroni and Potato Salad\nPotato and Asparagus Masala Dosa Crispy Indian Crepes\nRoasted Spring Root Vegetables and Pistachios with Agave Tahini Dressing\nFava Bean\, Spring and Snap Pea Paella\nAmaretto Macerated Rhubarb Upside Down Cake\nCulinary Techniques In This Class: smoking\, grilling\, sauce making\, roasting\, baking\n\nReserve your spot at chefaarika.com
URL:https://healingkitchendenver.com/event/global-vegan-spring/
LOCATION:CO
ATTACH;FMTTYPE=image/jpeg:https://healingkitchendenver.com/wp-content/uploads/2024/02/lvhk-Global-Veg.jpg
END:VEVENT
BEGIN:VEVENT
DTSTART;TZID=UTC:20240320T183000
DTEND;TZID=UTC:20240320T213000
DTSTAMP:20260419T131626
CREATED:20240203T200315Z
LAST-MODIFIED:20240318T114200Z
UID:10000073-1710959400-1710970200@healingkitchendenver.com
SUMMARY:Couples Class: Sushi Date Night
DESCRIPTION:$190.00 per couple\nMaking these delicious Japanese delicacies at home is a fun and novel experience\, and this hands-on workshop will teach you all about the authentic ingredients\, the traditional flavors and fillings\, and the techniques and skills needed to create your own customized sushi rolls. You’ll soon be creating impressive rolls worthy of any sushi restaurant! Please note the cost of this class is for two people\, \nMenu: \n\nMaki Sushi (California Rolls and Philly Rolls)\nNigiri Sushi\nTemaki Sushi (Spicy Tuna Hand Roll)\nShrimp Tempura Roll\nSushi Rice\nSoy-Fresh Ginger Dipping Sauce\nCulinary Techniques In This Class: knife skills and sushi rolling\n\nReserve your spot at chefaarika.com
URL:https://healingkitchendenver.com/event/couples-class-sushi-date-night-2/
LOCATION:La Victoria Healing Kitchen\, 1427 Elmira St\, Aurora\, CO\, 80010\, United States
ATTACH;FMTTYPE=image/jpeg:https://healingkitchendenver.com/wp-content/uploads/2024/02/lvhk-Sushi-Making-Class.jpg
END:VEVENT
BEGIN:VEVENT
DTSTART;TZID=UTC:20240319T173000
DTEND;TZID=UTC:20240319T223000
DTSTAMP:20260419T131626
CREATED:20240318T150122Z
LAST-MODIFIED:20240318T151550Z
UID:10000081-1710869400-1710887400@healingkitchendenver.com
SUMMARY:Private Event
DESCRIPTION:Private Event. \nAndrea Murdoch / Four Directions Cuisine
URL:https://healingkitchendenver.com/event/private-event-mar-19-2024/
LOCATION:La Victoria Healing Kitchen\, 1427 Elmira St\, Aurora\, CO\, 80010\, United States
ATTACH;FMTTYPE=image/png:https://healingkitchendenver.com/wp-content/uploads/2024/02/lvhk-La-Victoria-400x260-1.png
END:VEVENT
END:VCALENDAR